BEGIN:VCALENDAR
VERSION:2.0
PRODID:-//Milberger Nursery - ECPv6.15.20//NONSGML v1.0//EN
CALSCALE:GREGORIAN
METHOD:PUBLISH
X-ORIGINAL-URL:https://www.milbergernursery.com
X-WR-CALDESC:Events for Milberger Nursery
REFRESH-INTERVAL;VALUE=DURATION:PT1H
X-Robots-Tag:noindex
X-PUBLISHED-TTL:PT1H
BEGIN:VTIMEZONE
TZID:UTC
BEGIN:STANDARD
TZOFFSETFROM:+0000
TZOFFSETTO:+0000
TZNAME:UTC
DTSTART:20250101T000000
END:STANDARD
END:VTIMEZONE
BEGIN:VEVENT
DTSTART;TZID=UTC:20260502T100000
DTEND;TZID=UTC:20260502T113000
DTSTAMP:20260420T042529
CREATED:20191230T005509Z
LAST-MODIFIED:20260330T164752Z
UID:10000957-1777716000-1777721400@www.milbergernursery.com
SUMMARY:SPRING VEGETABLE GARDENING
DESCRIPTION:Free Adult Seminar: Spring Vegetable Gardening \nJoin us at Milberger’s for a free seminar featuring David Rodriguez\, Extension Horticulturist with Texas A&M AgriLife Extension Service. \nLearn how to take the mystery out of growing a productive vegetable garden. David will share proven Earth-Kind® gardening techniques to help you achieve a healthy\, bountiful harvest this season. He’ll also answer your specific vegetable gardening questions during the session. \nHave questions? Call us at 210-497-3760.
URL:https://www.milbergernursery.com/event/tomatoes-101-spring-vegetable-gardening/
CATEGORIES:Class,Presentation,Seasonal
ATTACH;FMTTYPE=image/png:https://www.milbergernursery.com/wp-content/uploads/2019/12/26-8136-Milbergers-Event.png
END:VEVENT
END:VCALENDAR