BEGIN:VCALENDAR
VERSION:2.0
PRODID:-//Milberger Nursery - ECPv6.15.20//NONSGML v1.0//EN
CALSCALE:GREGORIAN
METHOD:PUBLISH
X-WR-CALNAME:Milberger Nursery
X-ORIGINAL-URL:https://www.milbergernursery.com
X-WR-CALDESC:Events for Milberger Nursery
REFRESH-INTERVAL;VALUE=DURATION:PT1H
X-Robots-Tag:noindex
X-PUBLISHED-TTL:PT1H
BEGIN:VTIMEZONE
TZID:America/Chicago
BEGIN:DAYLIGHT
TZOFFSETFROM:-0600
TZOFFSETTO:-0500
TZNAME:CDT
DTSTART:20230312T080000
END:DAYLIGHT
BEGIN:STANDARD
TZOFFSETFROM:-0500
TZOFFSETTO:-0600
TZNAME:CST
DTSTART:20231105T070000
END:STANDARD
BEGIN:DAYLIGHT
TZOFFSETFROM:-0600
TZOFFSETTO:-0500
TZNAME:CDT
DTSTART:20240310T080000
END:DAYLIGHT
BEGIN:STANDARD
TZOFFSETFROM:-0500
TZOFFSETTO:-0600
TZNAME:CST
DTSTART:20241103T070000
END:STANDARD
BEGIN:DAYLIGHT
TZOFFSETFROM:-0600
TZOFFSETTO:-0500
TZNAME:CDT
DTSTART:20250309T080000
END:DAYLIGHT
BEGIN:STANDARD
TZOFFSETFROM:-0500
TZOFFSETTO:-0600
TZNAME:CST
DTSTART:20251102T070000
END:STANDARD
END:VTIMEZONE
BEGIN:VEVENT
DTSTART;VALUE=DATE:20241001
DTEND;VALUE=DATE:20241002
DTSTAMP:20260421T094323
CREATED:20240814T141612Z
LAST-MODIFIED:20240814T141612Z
UID:105421-1727740800-1727827199@www.milbergernursery.com
SUMMARY:Wellmed Information Booth on Medicare Info
DESCRIPTION:Stop by our Wellmed information booth at Milberger’s Nursery for our plant giveaway! \nCome by hear how we help keep patients healthy by providing focused attention\, spending quality time with our patients\, and practicing prevention. \n\nJoin in on the activities\nRefreshments\, prizes** and fun\nBring a Medicare-eligible friend\n\nThe respect and care you deserve. Find out how to get healthier today!
URL:https://www.milbergernursery.com/event/wellmed-information-booth-on-medicare-info-3/
CATEGORIES:Presentation
ATTACH;FMTTYPE=image/jpeg:https://www.milbergernursery.com/wp-content/uploads/2024/08/Wellmed_LetYourHealthBloomRSZ.jpg
END:VEVENT
END:VCALENDAR