BEGIN:VCALENDAR
VERSION:2.0
PRODID:-//Milberger Nursery - ECPv6.15.20//NONSGML v1.0//EN
CALSCALE:GREGORIAN
METHOD:PUBLISH
X-WR-CALNAME:Milberger Nursery
X-ORIGINAL-URL:https://www.milbergernursery.com
X-WR-CALDESC:Events for Milberger Nursery
REFRESH-INTERVAL;VALUE=DURATION:PT1H
X-Robots-Tag:noindex
X-PUBLISHED-TTL:PT1H
BEGIN:VTIMEZONE
TZID:UTC
BEGIN:STANDARD
TZOFFSETFROM:+0000
TZOFFSETTO:+0000
TZNAME:UTC
DTSTART:20230101T000000
END:STANDARD
END:VTIMEZONE
BEGIN:VEVENT
DTSTART;TZID=UTC:20240309T100000
DTEND;TZID=UTC:20240309T113000
DTSTAMP:20260421T092436
CREATED:20191230T005509Z
LAST-MODIFIED:20191230T005509Z
UID:105367-1709978400-1709983800@www.milbergernursery.com
SUMMARY:Spring Vegetable Gardening
DESCRIPTION:Free Adult Seminar with David Rodriguez\, Extension Horticulturist for Texas A&M AgriLIFE Extension Service addresses the audience at Milberger’s free Spring Vegetable garden seminar. \nTake the mystery out of having a bountiful harvest. David will discuss the Earth-Kind techniques that will help get your garden into full bloom and answer your specific questions about your vegetable garden. 210-497-3760. \nEarth-Kind combines organic and traditional principles that help homeowners create lush yet environmentally safe gardens and landscapes. They are research-proven techniques that are successful and preserve and protect the environment. Techniques include using composting to improve existing soil conditions\, proper mowing\, effective irrigation methods that conserve water and using plant materials that are less susceptible to insects and diseases\, Perez said. Topics include an Earth-Kind overview\, Earth-Kind roses\, improving existing soils\, Earth-Kind turf management\, selecting plants for South Texas\, disease and insect management\, and a question and answer session.
URL:https://www.milbergernursery.com/event/tomatoes-101-spring-vegetable-gardening-2/
CATEGORIES:Class,Holiday,Presentation,Seasonal
ATTACH;FMTTYPE=image/jpeg:https://www.milbergernursery.com/wp-content/uploads/2016/03/mulchedVegetable_-garden_illustration.jpg
END:VEVENT
END:VCALENDAR