BEGIN:VCALENDAR
VERSION:2.0
PRODID:-//Milberger Nursery - ECPv6.15.20//NONSGML v1.0//EN
CALSCALE:GREGORIAN
METHOD:PUBLISH
X-WR-CALNAME:Milberger Nursery
X-ORIGINAL-URL:https://www.milbergernursery.com
X-WR-CALDESC:Events for Milberger Nursery
REFRESH-INTERVAL;VALUE=DURATION:PT1H
X-Robots-Tag:noindex
X-PUBLISHED-TTL:PT1H
BEGIN:VTIMEZONE
TZID:UTC
BEGIN:STANDARD
TZOFFSETFROM:+0000
TZOFFSETTO:+0000
TZNAME:UTC
DTSTART:20210101T000000
END:STANDARD
END:VTIMEZONE
BEGIN:VEVENT
DTSTART;TZID=UTC:20220604T113000
DTEND;TZID=UTC:20220604T120000
DTSTAMP:20260424T045032
CREATED:20220516T074915Z
LAST-MODIFIED:20220516T074915Z
UID:100435-1654342200-1654344000@www.milbergernursery.com
SUMMARY:Milberger's TOP TOMATO CONTEST
DESCRIPTION:Bring your finest homegrown tomatoes and/or a bowl filled with your best garden vegetables to Milbergers before noon and the fruits of your garden may be selected a winner in one of five categories: \nCherry and Smaller Tomatoes \nRegular Tomatoes \nBiggest Tomato (based on weight) \nBest of Show Grand Champion \nEvery entrant will receive a $10 gift certificate redeemable at Milberger’s on the day of the contest only. \nDownload the following entry form and bring it with you on the day of the contest. \nDOWNLOAD ENTRY FORM \nAll decisions of the judges\, including eligibility at the time of entering\, are final. \nCriteria for Tomatoes \nStems (calyx) should be left on\, approximately ½ inch in length\, green and fresh. Cherry tomatoes can still be on the vine. All tomatoes should be uniform in size\, color\, shape and maturity. Color of maturity and ripeness depends on variety\, from green to rope red. Tomato variety must be specified on the entry form that will be filled out when you arrive at Milberger’s. \nBasket of Plenty \nBring a bowl filled with YOUR BEST VEGETABLES picked fresh from your garden\, but don’t include tomatoes. The best display of non-tomato veggies will win a $50 Milberger Gift Certificate. \nCriteria for salad bowls: Stems (calyx) should be left on\, approximately ½ inch in length\, green & fresh. \nBasic rules of Tomato & Salad Bowl Contests \n\nEntries will be accepted between 9:30am – 11:30am on 6/4/22\nJudging begins at 12pm and winners will be announced when judging ends\nNo more than one tomato entry per division\, per family\nTomato and Salad Bowl vegetable entries must be home grown on plants maintained by contestant. Commercial growers are not eligible.\nContest is open to Texas residents of all ages\nEntries not collected by the contestants by 2pm will become the property of GVST
URL:https://www.milbergernursery.com/event/milbergers-top-tomato-contest/
CATEGORIES:Class,Presentation,Seasonal
ATTACH;FMTTYPE=image/png:https://www.milbergernursery.com/wp-content/uploads/2019/05/TopTomatoBoy.png
END:VEVENT
END:VCALENDAR