BEGIN:VCALENDAR
VERSION:2.0
PRODID:-//Milberger Nursery - ECPv6.15.20//NONSGML v1.0//EN
CALSCALE:GREGORIAN
METHOD:PUBLISH
X-WR-CALNAME:Milberger Nursery
X-ORIGINAL-URL:https://www.milbergernursery.com
X-WR-CALDESC:Events for Milberger Nursery
REFRESH-INTERVAL;VALUE=DURATION:PT1H
X-Robots-Tag:noindex
X-PUBLISHED-TTL:PT1H
BEGIN:VTIMEZONE
TZID:America/Chicago
BEGIN:DAYLIGHT
TZOFFSETFROM:-0600
TZOFFSETTO:-0500
TZNAME:CDT
DTSTART:20240310T080000
END:DAYLIGHT
BEGIN:STANDARD
TZOFFSETFROM:-0500
TZOFFSETTO:-0600
TZNAME:CST
DTSTART:20241103T070000
END:STANDARD
BEGIN:DAYLIGHT
TZOFFSETFROM:-0600
TZOFFSETTO:-0500
TZNAME:CDT
DTSTART:20250309T080000
END:DAYLIGHT
BEGIN:STANDARD
TZOFFSETFROM:-0500
TZOFFSETTO:-0600
TZNAME:CST
DTSTART:20251102T070000
END:STANDARD
BEGIN:DAYLIGHT
TZOFFSETFROM:-0600
TZOFFSETTO:-0500
TZNAME:CDT
DTSTART:20260308T080000
END:DAYLIGHT
BEGIN:STANDARD
TZOFFSETFROM:-0500
TZOFFSETTO:-0600
TZNAME:CST
DTSTART:20261101T070000
END:STANDARD
END:VTIMEZONE
BEGIN:VEVENT
DTSTART;TZID=America/Chicago:20251202T100000
DTEND;TZID=America/Chicago:20251202T150000
DTSTAMP:20260423T154426
CREATED:20241125T214055Z
LAST-MODIFIED:20241125T214055Z
UID:105726-1764669600-1764687600@www.milbergernursery.com
SUMMARY:Milberger's December Blood Drive
DESCRIPTION:Give the gift of life. The South Texas Blood and Tissue Center will be here at the nursery to conduct our December Blood Drive. Your donation could save the life of someone in need. Milberger’s will give a $10 gift certificate to everyone offering to donate\, plus a gift from the center. Walk-ins and appointments welcome. To make an appointment CLICK HERE.  Or call 210-757-9595
URL:https://www.milbergernursery.com/event/milbergers-december-blood-drive/
ATTACH;FMTTYPE=image/png:https://www.milbergernursery.com/wp-content/uploads/2024/11/25-7925-Social-graphics-Blood-Drive.png
END:VEVENT
END:VCALENDAR