BEGIN:VCALENDAR
VERSION:2.0
PRODID:-//Milberger Nursery - ECPv6.15.20//NONSGML v1.0//EN
CALSCALE:GREGORIAN
METHOD:PUBLISH
X-WR-CALNAME:Milberger Nursery
X-ORIGINAL-URL:https://www.milbergernursery.com
X-WR-CALDESC:Events for Milberger Nursery
REFRESH-INTERVAL;VALUE=DURATION:PT1H
X-Robots-Tag:noindex
X-PUBLISHED-TTL:PT1H
BEGIN:VTIMEZONE
TZID:UTC
BEGIN:STANDARD
TZOFFSETFROM:+0000
TZOFFSETTO:+0000
TZNAME:UTC
DTSTART:20230101T000000
END:STANDARD
END:VTIMEZONE
BEGIN:VEVENT
DTSTART;TZID=UTC:20240525T100000
DTEND;TZID=UTC:20240525T150000
DTSTAMP:20260421T122403
CREATED:20230105T002402Z
LAST-MODIFIED:20230105T002402Z
UID:105397-1716631200-1716649200@www.milbergernursery.com
SUMMARY:Milberger's Blood Drive
DESCRIPTION:
URL:https://www.milbergernursery.com/event/milbergers-blood-drive-17-2/
CATEGORIES:Class,Holiday,Kids,Presentation,Seasonal
ATTACH;FMTTYPE=image/jpeg:https://www.milbergernursery.com/wp-content/uploads/2023/01/May24_MbgBlodDrive-scaled-1.jpeg
END:VEVENT
END:VCALENDAR