BEGIN:VCALENDAR
VERSION:2.0
PRODID:-//Milberger Nursery - ECPv6.15.20//NONSGML v1.0//EN
CALSCALE:GREGORIAN
METHOD:PUBLISH
X-WR-CALNAME:Milberger Nursery
X-ORIGINAL-URL:https://www.milbergernursery.com
X-WR-CALDESC:Events for Milberger Nursery
REFRESH-INTERVAL;VALUE=DURATION:PT1H
X-Robots-Tag:noindex
X-PUBLISHED-TTL:PT1H
BEGIN:VTIMEZONE
TZID:UTC
BEGIN:STANDARD
TZOFFSETFROM:+0000
TZOFFSETTO:+0000
TZNAME:UTC
DTSTART:20220101T000000
END:STANDARD
END:VTIMEZONE
BEGIN:VEVENT
DTSTART;TZID=UTC:20230325T110000
DTEND;TZID=UTC:20230325T150000
DTSTAMP:20260423T042947
CREATED:20230105T001758Z
LAST-MODIFIED:20230105T001758Z
UID:101128-1679742000-1679756400@www.milbergernursery.com
SUMMARY:Milberger's Blood Drive
DESCRIPTION:Give the gift of life. The South Texas Blood and Tissue Center will be here at the nursery to conduct our regularly scheduled Blood Drive. Your donation could save the life of someone in need. \nMilberger will give a $10 gift certificate to everyone offering to donate. Please plan to participate. Appointments and walk-ins welcome. \nAppointments are preferred but walk-ins are welcome. \nTo make an appointment CLICK HERE \nOr call 210-757-9595
URL:https://www.milbergernursery.com/event/milbergers-blood-drive-15/
CATEGORIES:Class,Holiday,Kids,Presentation
ATTACH;FMTTYPE=image/jpeg:https://www.milbergernursery.com/wp-content/uploads/2015/03/170208_BloodDrive.jpg
END:VEVENT
END:VCALENDAR