BEGIN:VCALENDAR
VERSION:2.0
PRODID:-//Milberger Nursery - ECPv6.15.20//NONSGML v1.0//EN
CALSCALE:GREGORIAN
METHOD:PUBLISH
X-WR-CALNAME:Milberger Nursery
X-ORIGINAL-URL:https://www.milbergernursery.com
X-WR-CALDESC:Events for Milberger Nursery
REFRESH-INTERVAL;VALUE=DURATION:PT1H
X-Robots-Tag:noindex
X-PUBLISHED-TTL:PT1H
BEGIN:VTIMEZONE
TZID:UTC
BEGIN:STANDARD
TZOFFSETFROM:+0000
TZOFFSETTO:+0000
TZNAME:UTC
DTSTART:20220101T000000
END:STANDARD
END:VTIMEZONE
BEGIN:VEVENT
DTSTART;TZID=UTC:20230325T110000
DTEND;TZID=UTC:20230325T150000
DTSTAMP:20260421T135542
CREATED:20190726T031055Z
LAST-MODIFIED:20190726T031055Z
UID:22089-1679742000-1679756400@www.milbergernursery.com
SUMMARY:Lions Club's free KidSight vision screening at Milberger's
DESCRIPTION:Eighty percent of all visual impairment can be prevented or cured. The first step to prevention is awareness.  Early identification leads to timely referral\, professional treatment\, and improved or restored sight. \nMilberger’s Nursery is hosting Lions Club’s KidSight MOBILE EYE SCREENING UNIT where you can have your kids vision screened by trained and State certified Lions using a small hand-held camera. In just a few seconds\, this non-evasive method quickly detect:\nNear or far sightedness\nUnequal refractive power\nBlurred vision\nEye structure problems\nEye movement \nFor children 6 months to 5 years old \nAdults are encouraged to participate. Walk-ins welcome. \nContact Pantusa\, 210-326-3915\nLions Club San Antonio Club’s District 2-A2 \nCLICK HERE for more information on KidSight\n \n 
URL:https://www.milbergernursery.com/event/lions-clubs-free-kidsight-vision-screening-at-milbergers/
CATEGORIES:Class,Kids,Presentation,Seasonal
ATTACH;FMTTYPE=image/jpeg:https://www.milbergernursery.com/wp-content/uploads/2019/07/190831_Lions_KidSight-Logo-.jpg
END:VEVENT
END:VCALENDAR